BEGIN:VCALENDAR
VERSION:2.0
PRODID:-//Kulturhaus Dock 4//NONSGML kigkonsult.se iCalcreator 2.41.92//
CALSCALE:GREGORIAN
METHOD:PUBLISH
UID:32663834-3865-4364-b832-343863326465
X-WR-CALNAME:iCagenda
X-WR-CALDESC:Event Management Extension for Joomla!
X-WR-RELCALID:3E26604A-50F4-4449-8B3E-E4F4932D05B5
X-WR-TIMEZONE:Europe/Berlin
BEGIN:VTIMEZONE
TZID:Europe/Berlin
TZUNTIL:20271031T010000Z
BEGIN:STANDARD
TZNAME:CET
DTSTART:20251026T030000
TZOFFSETFROM:+0200
TZOFFSETTO:+0100
RDATE:20261025T030000
END:STANDARD
BEGIN:DAYLIGHT
TZNAME:CEST
DTSTART:20250330T020000
TZOFFSETFROM:+0100
TZOFFSETTO:+0200
RDATE:20260329T020000
RDATE:20270328T020000
END:DAYLIGHT
END:VTIMEZONE
BEGIN:VEVENT
UID:61333037-6663-4434-a436-396337313536
DTSTAMP:20260421T075418Z
CATEGORIES:Tanz
CLASS:PUBLIC
DESCRIPTION;ALTREP="CID:<FFFF__=0ABBE548DFE235B58f9e8a93d@coffeebean.com>":
 tanz*werk kassel\nWhat moves us? Tanzperformance\nDas 2. Stück von tanz*we
 rk kassel in Zusammenarbeit mit der Choreographin Antje Pfundtner. Nach de
 m Erfolg von 'How to share Space' im Jahr 2022 finden sich 11 Tänzerinnen 
 zu einem neuen Stück zusammen. Was bewegt uns? Was treibt uns an in diesen
  Zeiten weiterhin Kunst zu machen\, weiterhin zu tanzen\, weiterhin gesehe
 n zu werden? Jede einzelne bringt etwas Spezielles mit\, was sie bewegt un
 d teilt es mit den anderen.\n2 Abende werden in voller Besetzung stattfind
 en\, der 3. Abend am 07.12. wird in reduzierter Besetzung als Ghost Perfor
 mance aufgeführt. Physisch abwesend sind die Fehlenden dennoch anwesend.\n
 tanz*werk kassel in Zusammenarbeit mit Antje Pfundtner\nPerformerinnen: An
 gela Reimuth\, Bettina Helmrich\, Deborah Smith-Wicke\, Franziska Ullrich\
 , Heike Wrede\, Josefine Malakci\, Katja Ferger\, Marie Simson\, Moa Flore
 ll\, Sophie Sengle\, Verena Piwonka\, Gab Branco\nInfo: https://www.tanzwe
 rk-kassel.org
DTSTART:20251206T190000Z
DTEND:20251206T190000Z
GEO:+51.314209;+9.498184
LOCATION:Halle
ORGANIZER;CN=:mailto:info@tanzwerk-kassel.de
SEQUENCE:1
SUMMARY:What moves us?
TRANSP:OPAQUE
URL:https://www.dock4.de/cms/de/118-what-moves-us/2025-12-06-20-00
END:VEVENT
END:VCALENDAR
