BEGIN:VCALENDAR
VERSION:2.0
PRODID:-//Kulturhaus Dock 4//NONSGML kigkonsult.se iCalcreator 2.41.92//
CALSCALE:GREGORIAN
METHOD:PUBLISH
UID:63366462-3062-4133-b665-376437366532
X-WR-CALNAME:iCagenda
X-WR-CALDESC:Event Management Extension for Joomla!
X-WR-RELCALID:3E26604A-50F4-4449-8B3E-E4F4932D05B5
X-WR-TIMEZONE:Europe/Berlin
BEGIN:VTIMEZONE
TZID:Europe/Berlin
TZUNTIL:20271031T010000Z
BEGIN:STANDARD
TZNAME:CET
DTSTART:20251026T030000
TZOFFSETFROM:+0200
TZOFFSETTO:+0100
RDATE:20261025T030000
END:STANDARD
BEGIN:DAYLIGHT
TZNAME:CEST
DTSTART:20250330T020000
TZOFFSETFROM:+0100
TZOFFSETTO:+0200
RDATE:20260329T020000
RDATE:20270328T020000
END:DAYLIGHT
END:VTIMEZONE
BEGIN:VEVENT
UID:63623863-6463-4238-a231-323638356161
DTSTAMP:20260425T213713Z
CATEGORIES:Musik
CLASS:PUBLIC
DESCRIPTION;ALTREP="CID:<FFFF__=0ABBE548DFE235B58f9e8a93d@coffeebean.com>":
 Laudatio:&nbsp\;Hannah Stastny (Hildesheim/Kassel) und Nikolaus Neuser (Be
 rlin)\nDas Ensemble: Nikolaus Neuser - Trompete\; Detlef Landeck - Posaune
 \;&nbsp\;Martin Speicher - Altsaxophon\, Klarinetten\;&nbsp\;Matthias Schu
 bert - Tenorsaxophon\;&nbsp\;Ursel Schlicht - Flügel\;&nbsp\;Hans Tammen -
  Live-Elektronik\;&nbsp\;Rolf Denecke - Kontrabass\; Bene Schuba - Schlagz
 eug\; Tanja Kurzenknabe - Fotografie\nDer Abend wird drei Aspekte von Urse
 l Schlichts musikalischen Tätigkeit aus Jazz\, Improvisation und Interdisz
 iplinarität zeigen. Eröffnet wird er mit einem Ausschnitt aus dem aktuelle
 n Projekt 'Foto+Klang“\, genauer mit einer Fotostrecke inspiriert von der 
 documenta fifteen\, zu der sie Improvisationen am Flügel solo entwickelt h
 at\; als special guest an diesem Abend ist der langjährige Duo-Partner Han
 s Tammen mit Live-Elektronik dabei.&nbsp\; Es folgen eine Auswahl persönli
 cher Jazzkompositionen mit Posaune\, Saxophon\, Kontrabass und Flügel.&nbs
 p\; Mit allen Musikern aus Kassel verbindet sie eine lange Zusammenarbeit.
 &nbsp\; Abgerundet wird der Abend durch ein improvisatorisches Konzept für
  das ganze Ensemble\, an dem auch Laudator Nikolaus Neuser an der Trompete
  mitwirkt.\nKunst- und Kulturminister Timon Gremmels&nbsp\;erklärt: „Ursel
  Schlicht steht für das\, was Hessens Kulturlandschaft prägt: künstlerisch
 e Qualität\, Offenheit und gesellschaftliche Verantwortung. Ihr Beitrag be
 reichert Hessen – durch kulturelle Vielfalt\, durch Dialog über Grenzen hi
 nweg\, durch Förderung junger Talente und durch die stetige Reflexion über
  Macht\, Geschlecht und künstlerische Praxis. Als Künstlerin\, die nicht n
 ur musikalisch glänzt\, sondern deren Leben und Werk beispielhaft verknüpf
 en\, was Kunst\, Wissenschaft\, Kulturpolitik und soziales Engagement ausm
 achen können\, hat Ursel Schlicht den Hessischen Jazzpreis 2025 mehr als v
 erdient. Ich gratuliere Ursel Schlicht sehr herzlich.“\nIn der Auswahlbegr
 ündung der Jury heißt es: „Als Performerin bewegt sie sich souverän zwisch
 en Jazz\, Neuer Musik und interkulturellen Projekten. Ihr Spiel ist gepräg
 t von hoher Sensibilität\, großer spontaner Kreativität\, technischem Könn
 en und dem Mut\, Grenzen zu überschreiten\, immer mit Respekt vor den Trad
 itionen\, aus denen sie schöpft. Mit Formationen wie Jazz Meets Tabla oder
  SonicExchange schafft sie Räume des Dialogs\, die in Hessen verankert und
  international vernetzt sind.“\nZum Hessischen JazzpreisDie Landesregierun
 g hat den Hessischen Jazzpreis erstmals 1990 zur Förderung und Entwicklung
  der Jazzmusik und der Jazz-Musiker in Hessen gestiftet\, er ist mit 10.00
 0 Euro dotiert. Der Preis soll Musikerinnen und Musiker\, Ensembles oder d
 em Jazz verbundene Persönlichkeiten für ihre musikalischen Leistungen oder
  für besondere Verdienste um die Entwicklung der hessischen Jazzszene ausz
 eichnen. Über die Vergabe des hessischen Jazzpreises entscheidet der Hessi
 sche Minister für Wissenschaft und Forschung\, Kunst und Kultur aufgrund d
 er Empfehlung einer unabhängigen Jury.\nDie vollständige Pressemitteilung 
 ist hier zu lesen:&nbsp\;Ursel Schlicht erhält den Hessischen Jazzpreis 20
 25\nEs sind ausreichend Plätze auch für Besuchende ohne Anmeldung vorhande
 n.&nbsp\;
DTSTART:20251215T180000Z
DTEND:20251215T180000Z
GEO:+51.313362;+9.443077
LOCATION:Anthroposophisches Zentrum
ORGANIZER;CN=:mailto:ursel@urselschlicht.com
SEQUENCE:1
SUMMARY:Hessischer Jazzpreis 2025 - Ursel Schlicht
TRANSP:OPAQUE
URL:https://www.dock4.de/cms/de/122-hessischer-jazzpreis-2025/2025-12-15-19
 -00?layout=vcal
END:VEVENT
END:VCALENDAR
