BEGIN:VCALENDAR
VERSION:2.0
PRODID:-//Kulturhaus Dock 4//NONSGML kigkonsult.se iCalcreator 2.41.92//
CALSCALE:GREGORIAN
METHOD:PUBLISH
UID:64303932-3065-4562-b562-373062636236
X-WR-CALNAME:iCagenda
X-WR-CALDESC:Event Management Extension for Joomla!
X-WR-RELCALID:3E26604A-50F4-4449-8B3E-E4F4932D05B5
X-WR-TIMEZONE:Europe/Berlin
BEGIN:VTIMEZONE
TZID:Europe/Berlin
TZUNTIL:20271031T010000Z
BEGIN:STANDARD
TZNAME:CET
DTSTART:20251026T030000
TZOFFSETFROM:+0200
TZOFFSETTO:+0100
RDATE:20261025T030000
END:STANDARD
BEGIN:DAYLIGHT
TZNAME:CEST
DTSTART:20250330T020000
TZOFFSETFROM:+0100
TZOFFSETTO:+0200
RDATE:20260329T020000
RDATE:20270328T020000
END:DAYLIGHT
END:VTIMEZONE
BEGIN:VEVENT
UID:39323061-6638-4631-a230-643037373838
DTSTAMP:20260419T141953Z
CATEGORIES:Musik
CLASS:PUBLIC
DESCRIPTION;ALTREP="CID:<FFFF__=0ABBE548DFE235B58f9e8a93d@coffeebean.com>":
 Hans Tammen und Martin Speicher gründeten vor 30 Jahren die Reihe „LoftMus
 ic/QNH“\, die später in die Kooperative Ohrenkratzer e.V. &nbsp\;überging.
 \nHans Tammen ist zu diesem Jubiläumskonzert in Kassel und betätigt sich m
 ittlerweile fernab seiner gitarristischen Ursprünge intensiv mit elektroni
 schen Instrumenten. Im Kontext mit den analogen der restlichen illustren M
 itglieder des Ensembles dürfte dies für interessante und aufregende Spannu
 ngen sorgen.\nEbenfalls im Konzert dabei ist die frisch gebackene Hessisch
 e Jazzpreisträgerin 2025 - Ursel Schlicht.\nMartin Speicher&nbsp\;- Saxoph
 one\, KlarinettenDetlef Landeck-PosauneManfred Becker&nbsp\;-&nbsp\;Akkord
 eonUrsel Schlicht&nbsp\;- KlavierHans Tammen&nbsp\;- Blippoo BoxSven Krug 
 -&nbsp\;Kontrabass
DTSTART:20251218T190000Z
DTEND:20251218T190000Z
GEO:+51.314209;+9.498184
LOCATION:Studiobühne Deck 1
ORGANIZER;CN=:mailto:martinspeicher@t-online.de
SEQUENCE:1
SUMMARY:ReUnion Ensemble
TRANSP:OPAQUE
URL:https://www.dock4.de/cms/de/123-reunion-ensemble/2025-12-18-20-00
END:VEVENT
END:VCALENDAR
