BEGIN:VCALENDAR
VERSION:2.0
PRODID:-//Kulturhaus Dock 4//NONSGML kigkonsult.se iCalcreator 2.41.92//
CALSCALE:GREGORIAN
METHOD:PUBLISH
UID:34333937-6436-4061-b664-363963353538
X-WR-CALNAME:iCagenda
X-WR-CALDESC:Event Management Extension for Joomla!
X-WR-RELCALID:3E26604A-50F4-4449-8B3E-E4F4932D05B5
X-WR-TIMEZONE:Europe/Berlin
BEGIN:VTIMEZONE
TZID:Europe/Berlin
TZUNTIL:20271031T010000Z
BEGIN:STANDARD
TZNAME:CET
DTSTART:20251026T030000
TZOFFSETFROM:+0200
TZOFFSETTO:+0100
RDATE:20261025T030000
END:STANDARD
BEGIN:DAYLIGHT
TZNAME:CEST
DTSTART:20250330T020000
TZOFFSETFROM:+0100
TZOFFSETTO:+0200
RDATE:20260329T020000
RDATE:20270328T020000
END:DAYLIGHT
END:VTIMEZONE
BEGIN:VEVENT
UID:30386236-6534-4430-b932-383435363763
DTSTAMP:20260421T075613Z
CATEGORIES:Tanz
CLASS:PUBLIC
DESCRIPTION;ALTREP="CID:<FFFF__=0ABBE548DFE235B58f9e8a93d@coffeebean.com>":
 THE BODY OF US&nbsp\;\n„Mit dem Problem zu leben bedeutet\, Ungewöhnliches
  zu schaffen\; das heißt\, wir brauchen einander in unerwarteten Kooperati
 onen und Kombinationen. Wir werden – miteinander oder gar nicht.“\n*Donna 
 Haraway\, „Staying with the Trouble“\nIn Zeiten multipler Krisen lädt die 
 interdisziplinäre Tanz-Performance THE BODY OF US dazu ein\, den Blick auf
  das Leben neu zu richten: Was\, wenn wir lernen\, unsere Existenz miteina
 nder zu denken – wie Pilzmyzele\, die heimlich und fruchtbar Wurzeln verbi
 nden?\nAuf der Bühne entsteht ein lebendiges\, reaktives System: Körper\, 
 Projektionen und Klangwelten beeinflussen einander\, nähren sich gegenseit
 ig und bilden unerwartete Symbiosen. Tanz\, digitale Visual und Sound Art 
 verschmelzen zu einem offenen Ökosystem\, das sich wandelt\, verästelt und
  emergent wächst.\nWelche Lektionen lassen sich von kollaborativen Lebensf
 ormen lernen?\nWie verändern sich Körper\, wenn sie geteilt\, durchlässig 
 und miteinander verflochten werden?\nWir sind nicht länger das Zentrum\, s
 ondern ein Knoten im Geflecht\, ein Chor vielstimmiger Präsenz – mineralis
 ch\, menschlich\, algorithmisch\, geisterhaft.\nKonzept: rendered realitie
 sPerformance: Teilnehmenden der Community Company Kassel&nbsp\;Choreograph
 ie: Agnetha Jaunich&nbsp\;Visual Art: Hendrik Lange&nbsp\;Sound Art: Micha
 el Nguyen&nbsp\;\nIn Kooperation mit dem Studio Lev Kassel&nbsp\;\nProzess
 begleitung durch das Koproduktionslabor\nGefördert durch das Hessische Min
 isterium für Wissenschaft und Kunst\, das Kulturamt Kassel und die Zippel-
 Stiftung
DTSTART:20260116T190000Z
DTEND:20260116T190000Z
GEO:+51.314209;+9.498184
LOCATION:Studiobühne Deck 1
ORGANIZER;CN=:mailto:agnetha.jaunich@web.de
SEQUENCE:1
SUMMARY:THE BODY OF US - eine Tanz-Digital-Performance
TRANSP:OPAQUE
URL:https://www.dock4.de/cms/de/124-the-body-of-us-eine-tanz-digital-perfor
 mance/2026-01-16-20-00
END:VEVENT
END:VCALENDAR
