BEGIN:VCALENDAR
VERSION:2.0
PRODID:-//Kulturhaus Dock 4//NONSGML kigkonsult.se iCalcreator 2.41.92//
CALSCALE:GREGORIAN
METHOD:PUBLISH
UID:65343333-3537-4537-a631-303164656537
X-WR-CALNAME:iCagenda
X-WR-CALDESC:Event Management Extension for Joomla!
X-WR-RELCALID:3E26604A-50F4-4449-8B3E-E4F4932D05B5
X-WR-TIMEZONE:Europe/Berlin
BEGIN:VTIMEZONE
TZID:Europe/Berlin
TZUNTIL:20271031T010000Z
BEGIN:STANDARD
TZNAME:CET
DTSTART:20251026T030000
TZOFFSETFROM:+0200
TZOFFSETTO:+0100
RDATE:20261025T030000
END:STANDARD
BEGIN:DAYLIGHT
TZNAME:CEST
DTSTART:20250330T020000
TZOFFSETFROM:+0100
TZOFFSETTO:+0200
RDATE:20260329T020000
RDATE:20270328T020000
END:DAYLIGHT
END:VTIMEZONE
BEGIN:VEVENT
UID:35363863-6236-4333-a539-636638666532
DTSTAMP:20260421T115500Z
CATEGORIES:Tanz
CLASS:PUBLIC
DESCRIPTION;ALTREP="CID:<FFFF__=0ABBE548DFE235B58f9e8a93d@coffeebean.com>":
 Wenn man etwas gelernt hat\, dann darf man stolz darauf sein und möchte es
  natürlich zeigen!\nHier zeigen uns unsere kleinsten Tänzer*innen im Alter
  von 3-5 Jahren\, wie Tanzen geht und was für eine Freude er uns bringen k
 ann...\nDamit auch die 'Großen' nicht zu kurz kommen\, gibt es immer wiede
 r Momente\, wo die Eltern mit dabei sind - auf den Brettern\, die die Welt
  bedeuten!\nWir möchten unseren Jüngsten in diesem Format erste Aufführung
 serlebnisse schaffen. Damit sie sich wohl und sicher fühlen\, ist diese Au
 fführung nur für die Eltern und Geschwister sowie nahe Angehörige offen.
DTSTART:20260321T100000Z
DTEND:20260321T100000Z
GEO:+51.314209;+9.498184
LOCATION:Halle
ORGANIZER;CN=:mailto:dance@tanzwerkstatt-kassel.de
SEQUENCE:1
SUMMARY:Auf die Bühne - fertig\, los!
TRANSP:OPAQUE
URL:https://www.dock4.de/cms/de/133-auf-die-buehne-fertig-los/2026-03-21-11
 -00?layout=vcal
END:VEVENT
END:VCALENDAR
