BEGIN:VCALENDAR
VERSION:2.0
PRODID:-//Kulturhaus Dock 4//NONSGML kigkonsult.se iCalcreator 2.41.92//
CALSCALE:GREGORIAN
METHOD:PUBLISH
UID:65353734-3165-4538-a332-656563306537
X-WR-CALNAME:iCagenda
X-WR-CALDESC:Event Management Extension for Joomla!
X-WR-RELCALID:3E26604A-50F4-4449-8B3E-E4F4932D05B5
X-WR-TIMEZONE:Europe/Berlin
BEGIN:VTIMEZONE
TZID:Europe/Berlin
TZUNTIL:20280326T010000Z
BEGIN:STANDARD
TZNAME:CET
DTSTART:20251026T030000
TZOFFSETFROM:+0200
TZOFFSETTO:+0100
RDATE:20261025T030000
RDATE:20271031T030000
END:STANDARD
BEGIN:DAYLIGHT
TZNAME:CEST
DTSTART:20260329T020000
TZOFFSETFROM:+0100
TZOFFSETTO:+0200
RDATE:20270328T020000
END:DAYLIGHT
END:VTIMEZONE
BEGIN:VEVENT
UID:35633334-6337-4162-b935-333934633265
DTSTAMP:20260421T084657Z
CATEGORIES:Musik
CLASS:PUBLIC
DESCRIPTION;ALTREP="CID:<FFFF__=0ABBE548DFE235B58f9e8a93d@coffeebean.com>":
 Sei der Star in unserer Karaoke-Bar\, gesungen wird\, was Spaß macht und d
 as Programm hergibt.\nTausende Titel aus den Bereichen Pop\, Rock\, Schalg
 er\, Metal\, Punk\, Hardcore und wer drauf steht\, sogar Musical.&nbsp\;\n
 Einlass 19:30 Uhr50 Tickets sind reservierbar\; die restlichen sind an der
  Abendkasse erhältlich solange Platz ist.&nbsp\;
DTSTART:20260508T183000Z
DTEND:20260508T183000Z
GEO:+51.314209;+9.498184
LOCATION:Zwischendeck
ORGANIZER;CN=:mailto:kontakt@kasseler-punkrock-kollektiv.de
SEQUENCE:1
SUMMARY:Let me entertain you - Karaoke Party
TRANSP:OPAQUE
URL:https://www.dock4.de/cms/de/153-let-me-entertain-you-karaoke-party/2026
 -05-08-20-30
END:VEVENT
END:VCALENDAR
