BEGIN:VCALENDAR
VERSION:2.0
PRODID:-//Kulturhaus Dock 4//NONSGML kigkonsult.se iCalcreator 2.41.92//
CALSCALE:GREGORIAN
METHOD:PUBLISH
UID:35386162-3561-4261-b631-393063623339
X-WR-CALNAME:iCagenda
X-WR-CALDESC:Event Management Extension for Joomla!
X-WR-RELCALID:3E26604A-50F4-4449-8B3E-E4F4932D05B5
X-WR-TIMEZONE:Europe/Berlin
BEGIN:VTIMEZONE
TZID:Europe/Berlin
TZUNTIL:20271031T010000Z
BEGIN:STANDARD
TZNAME:CET
DTSTART:20251026T030000
TZOFFSETFROM:+0200
TZOFFSETTO:+0100
RDATE:20261025T030000
END:STANDARD
BEGIN:DAYLIGHT
TZNAME:CEST
DTSTART:20260329T020000
TZOFFSETFROM:+0100
TZOFFSETTO:+0200
RDATE:20270328T020000
END:DAYLIGHT
END:VTIMEZONE
BEGIN:VEVENT
UID:32643861-3662-4730-b034-383037613338
DTSTAMP:20260424T195051Z
CATEGORIES:Theater
CLASS:PUBLIC
DESCRIPTION;ALTREP="CID:<FFFF__=0ABBE548DFE235B58f9e8a93d@coffeebean.com>":
 „Was passiert\, wenn man Hitler seinen einzigen Wintermantel leiht?“\nMEIN
  KAMPFEine Farce von George TaboriÜbersetzung: Ursula Grützmacher-Tabori\n
 Wien\, Anfang des 20. Jahrhunderts.Ein junger Mann kommt mit großen Träume
 n – und leerem Magen.Er will Künstler werden – und wird abgelehnt...Im Obd
 achlosenasyl trifft er den jüdischen Buchverkäufer Shlomo Herzl\, einen wa
 rmherzigen\, wortgewandten Träumer. Herzl nimmt den unbeholfenen Neuankömm
 ling an die Hand\, prägt sein Auftreten\, vermittelt ihm rhetorische Trick
 s – und leiht ihm seinen einzigen Wintermantel\, eine Fürsorge von Fremden
 \, die er so nicht kannte.\nDoch aus gut gemeinter Hilfe wächst etwas völl
 ig anderes: Ein naiver Künstler wird zum Demagogen\, ein Manuskript wird z
 ur Waffe\, und selbst kleinste Gesten entfalten fatale Folgen.\nMit schwar
 zem Humor\, grotesken Momenten und überraschender Ironie zeigt Tabori\, wi
 e Menschen einander beeinflussen – und wie kleinste Handlungen große Wirku
 ngen entfalten können. Man lacht über die Absurdität – und im nächsten Mom
 ent stockt einem der Atem.\nEin bitterkomisches unterhaltendes Stück über 
 Ideologie\,&nbsp\;Manipulation und menschliche Einflüsse – so aktuell wie 
 nie...\nKreative Leitung / Regie – Müge Yavas\nBesetzungShlomo Herzl – Tob
 ias SchaafLobkowitz – René SpitzerGretchen – Samira-Yasmin Mwasajone Frau 
 Tod – Philipp Michael Schlöter&nbsp\;Hitler – Jonas Biber&nbsp\;
DTSTART:20260429T170000Z
DTEND:20260429T170000Z
GEO:+51.314209;+9.498184
LOCATION:Studiobühne Deck 1
ORGANIZER;CN=:mailto:myfreeartprojects@gmail.com
SEQUENCE:1
SUMMARY:Mein Kampf eine Farce von George Tabori
TRANSP:OPAQUE
URL:https://www.dock4.de/cms/de/163-mein-kampf-eine-farce-von-george-tabori
 -2/2026-04-29-19-00?layout=vcal
END:VEVENT
END:VCALENDAR
