BEGIN:VCALENDAR
VERSION:2.0
PRODID:-//Kulturhaus Dock 4//NONSGML kigkonsult.se iCalcreator 2.41.92//
CALSCALE:GREGORIAN
METHOD:PUBLISH
UID:61376537-6131-4539-b636-626138323666
X-WR-CALNAME:iCagenda
X-WR-CALDESC:Event Management Extension for Joomla!
X-WR-RELCALID:3E26604A-50F4-4449-8B3E-E4F4932D05B5
X-WR-TIMEZONE:Europe/Berlin
BEGIN:VTIMEZONE
TZID:Europe/Berlin
TZUNTIL:20280326T010000Z
BEGIN:STANDARD
TZNAME:CET
DTSTART:20251026T030000
TZOFFSETFROM:+0200
TZOFFSETTO:+0100
RDATE:20261025T030000
RDATE:20271031T030000
END:STANDARD
BEGIN:DAYLIGHT
TZNAME:CEST
DTSTART:20260329T020000
TZOFFSETFROM:+0100
TZOFFSETTO:+0200
RDATE:20270328T020000
END:DAYLIGHT
END:VTIMEZONE
BEGIN:VEVENT
UID:33623135-3164-4663-b365-393063393865
DTSTAMP:20260421T114110Z
CATEGORIES:Tanztheater
CLASS:PUBLIC
DESCRIPTION;ALTREP="CID:<FFFF__=0ABBE548DFE235B58f9e8a93d@coffeebean.com>":
 Widerstand kostet Kraft\, die wir allein nicht immer aufbringen können\, g
 emeinsam aber schon. STAYIN ALIVE ist eine Collage von getanzten Kurzgesch
 ichten und zeigt verschiedene Wege\, sich gegenseitig zu bestärken\, gemei
 nschaftlich Fürsorge zu tragen und durchzuhalten: Wie bringen wir uns gege
 nseitig zum Lachen? Ab wann übernehmen wir für eine andere Person\, weil s
 ie nicht mehr kann? Wie schaffen wir gegenseitiges Vertrauen? Gemeinsam br
 ingen wir als Cast von acht Tänzer*innen durch die Schwarzen Tanzkulturen 
 Krump\, House\, Hip Hop\, Popping\, Waacking und Jazz unsere verschiedenen
  Perspektiven auf die Bühne. Wir wollen Kraft und Zuversicht verkörpern\, 
 die dazu inspiriert ist\, die eigene Energie für die Gemeinschaft einzuset
 zen. Denn nur so can we stay alive.\nResistance takes strength—strength we
  don’t always have on our own\, but together\, we do. STAYIN ALIVE is a co
 llage of short stories that explores different ways of supporting one anot
 her\, practicing collective care\, and enduring: How do we make each other
  laugh? When do we step in for someone because they can’t go on? How do we
  build trust between us? Performed by a cast of eight dancers\, the piece 
 draws on Black dance cultures such as Krump\, House\, Hip Hop\, Popping\, 
 Waacking and Jazz. Through our distinct perspectives and movement language
 s\, we create a stage world shaped by resilience\, hope\, and the sustaini
 ng force of community. Because only together can we stay alive.\nCredits:
 \nProduktion: Fanny Kulisch\nChoreografie\, Tanz\, Musikauswahl &amp\; Kos
 tüm : Ana Lucão Mvangi\, Fanny Kulisch\, Hamza Frempong Sunstrike\, Iman G
 ele\, Juli Jobe\, Maëlle Mawuse\, Manuel Neubauer\, Soukaina el AdakPoesie
 : Juli Jobe\, Ana Lucão MvangiVocals: Maëlle MawuseBühnenbild: Soukaina el
  AdakKünstlerische Leitung: Fanny KulischKünstlerische Beratung: Tiffani A
 chilleasVideo: Eva EyrichLicht &amp\; Technik: Kulturhaus Dock 4\nDauer: m
 ax. 60 Minuten - Für alle Altersklassen
DTSTART:20260509T163000Z
DTEND:20260509T163000Z
GEO:+51.314209;+9.498184
LOCATION:Studiobühne Deck 1
ORGANIZER;CN=:mailto:f.kulisch@posteo.de
SEQUENCE:1
SUMMARY:STAYIN ALIVE
TRANSP:OPAQUE
URL:https://www.dock4.de/cms/de/164-fanny-kulisch-stayin-alive/2026-05-09-1
 8-30?layout=vcal
END:VEVENT
END:VCALENDAR
