BEGIN:VCALENDAR
VERSION:2.0
PRODID:-//Kulturhaus Dock 4//NONSGML kigkonsult.se iCalcreator 2.41.92//
CALSCALE:GREGORIAN
METHOD:PUBLISH
UID:38653732-6430-4363-a637-373633393131
X-WR-CALNAME:iCagenda
X-WR-CALDESC:Event Management Extension for Joomla!
X-WR-RELCALID:3E26604A-50F4-4449-8B3E-E4F4932D05B5
X-WR-TIMEZONE:Europe/Berlin
BEGIN:VTIMEZONE
TZID:Europe/Berlin
TZUNTIL:20280326T010000Z
BEGIN:STANDARD
TZNAME:CET
DTSTART:20251026T030000
TZOFFSETFROM:+0200
TZOFFSETTO:+0100
RDATE:20261025T030000
RDATE:20271031T030000
END:STANDARD
BEGIN:DAYLIGHT
TZNAME:CEST
DTSTART:20260329T020000
TZOFFSETFROM:+0100
TZOFFSETTO:+0200
RDATE:20270328T020000
END:DAYLIGHT
END:VTIMEZONE
BEGIN:VEVENT
UID:30356333-3334-4230-a361-356461333966
DTSTAMP:20260419T141703Z
CATEGORIES:Musik
CLASS:PUBLIC
DESCRIPTION;ALTREP="CID:<FFFF__=0ABBE548DFE235B58f9e8a93d@coffeebean.com>":
 QUERFLÖTENSCHNUPPERTAG &nbsp\;am Freitag 22.Mai 2026 15.00-19.30\nKulturha
 us Dock 4\, Zwischendeck - Eingang Karl-Bernhardi-Straße\nUnverbindliche I
 nformations- und Mitspielgelegenheit rund um die QuerflöteLeihinstrumente 
 vorhanden\nKinderquerflötenkarusell\nProbeunterrichtInfos zu Einzelunterri
 cht in der Waldorfschule Kassel und im Kulturhaus Dock 4 der Stadt Kassel 
 sowie zum Fluteband-Querflötenensemble für Fortgeschrittene\nMenschen jede
 n Alters und mit jedem Leistungsstand sind willkommen.Anmeldung erbeten.\n
 Anmeldegebühr (je Block): 10 € Kinder\, 15 € Erwachsene\, Einzeltermine 25
  €Info &amp\; Anmeldung:&nbsp\;Telefon: 0178-8702077&nbsp\;Anmeldung zeitn
 ah erbeten\nLeitung: Ulrike LentzFlötistin und staatlich geprüfte Querflöt
 enlehrerin\n--------------------------------------------------------------
 -----------\nProgramm:\nBlock 115.00- 15.15 Flötenvorstellung15:15 -16.00 
 Querflötenkarusell* (Kinder)\nBlock 216:15- 16.30 Flötenvorstellung16.30- 
 17.15 Querflöte schnuppern*&nbsp\;\nBlock 317:30- 18:15 Querflöte schnuppe
 rn in der Gruppe* (Erwachsene)18:30 - 19:30 &nbsp\;&nbsp\;Einzeltermine (3
 0 Minuten)\n&nbsp\;
DTSTART:20260522T130000Z
DTEND:20260522T130000Z
GEO:+51.314209;+9.498184
LOCATION:Zwischendeck
ORGANIZER;CN=:mailto:Lentz@floete.biz
SEQUENCE:1
SUMMARY:Querflötenschnuppertag
TRANSP:OPAQUE
URL:https://www.dock4.de/cms/de/166-querfloetenschnuppertag/2026-05-22-15-0
 0
END:VEVENT
END:VCALENDAR
