BEGIN:VCALENDAR
VERSION:2.0
PRODID:-//Kulturhaus Dock 4//NONSGML kigkonsult.se iCalcreator 2.41.92//
CALSCALE:GREGORIAN
METHOD:PUBLISH
UID:33383264-3334-4530-b437-323266383932
X-WR-CALNAME:iCagenda
X-WR-CALDESC:Event Management Extension for Joomla!
X-WR-RELCALID:3E26604A-50F4-4449-8B3E-E4F4932D05B5
X-WR-TIMEZONE:Europe/Berlin
BEGIN:VTIMEZONE
TZID:Europe/Berlin
TZUNTIL:20280326T010000Z
BEGIN:STANDARD
TZNAME:CET
DTSTART:20251026T030000
TZOFFSETFROM:+0200
TZOFFSETTO:+0100
RDATE:20261025T030000
RDATE:20271031T030000
END:STANDARD
BEGIN:DAYLIGHT
TZNAME:CEST
DTSTART:20260329T020000
TZOFFSETFROM:+0100
TZOFFSETTO:+0200
RDATE:20270328T020000
END:DAYLIGHT
END:VTIMEZONE
BEGIN:VEVENT
UID:30383337-3665-4132-a332-633966303634
DTSTAMP:20260424T163155Z
CATEGORIES:Tanz
CLASS:PUBLIC
DESCRIPTION;ALTREP="CID:<FFFF__=0ABBE548DFE235B58f9e8a93d@coffeebean.com>":
 Salsa wurde in Kassel bereits in den 90er-Jahren getanzt.\nLegendäre Lokal
 e wie Barranquilla\, Schlachthof\, die Strandbar und Mayacoba waren seitde
 m beliebte Treffpunkte für Salsa-\, Bachata- und Merengue-Fans.\nWir wisse
 n nicht\, wer mit der Latin Dance Fieber in Kassel angefangen hat\, aber w
 ir wollen\, dass die Kasselaner weiterhin zu Latin Rhythms tanzen.\n21:30 
 Uhr einen Salsa Colombia Style Workshop.22:00 Uhr Latin Party.\nVAMOS A BA
 ILAR!
DTSTART:20260502T193000Z
DTEND:20260502T193000Z
GEO:+51.314209;+9.498184
LOCATION:Halle
ORGANIZER;CN=:mailto:dieggotcr@hotmail.com
SEQUENCE:1
SUMMARY:Latin Night|Fuego en el 23
TRANSP:OPAQUE
URL:https://www.dock4.de/cms/de/167-latin-night-fuego-en-el-23/2026-05-02-2
 1-30?layout=vcal
END:VEVENT
END:VCALENDAR
