BEGIN:VCALENDAR
VERSION:2.0
PRODID:-//Kulturhaus Dock 4//NONSGML kigkonsult.se iCalcreator 2.41.92//
CALSCALE:GREGORIAN
METHOD:PUBLISH
UID:36373263-3337-4364-b238-616631626433
X-WR-CALNAME:iCagenda
X-WR-CALDESC:Event Management Extension for Joomla!
X-WR-RELCALID:3E26604A-50F4-4449-8B3E-E4F4932D05B5
X-WR-TIMEZONE:Europe/Berlin
BEGIN:VTIMEZONE
TZID:Europe/Berlin
TZUNTIL:20280326T010000Z
BEGIN:STANDARD
TZNAME:CET
DTSTART:20251026T030000
TZOFFSETFROM:+0200
TZOFFSETTO:+0100
RDATE:20261025T030000
RDATE:20271031T030000
END:STANDARD
BEGIN:DAYLIGHT
TZNAME:CEST
DTSTART:20260329T020000
TZOFFSETFROM:+0100
TZOFFSETTO:+0200
RDATE:20270328T020000
END:DAYLIGHT
END:VTIMEZONE
BEGIN:VEVENT
UID:31656333-6132-4633-b366-333435656538
DTSTAMP:20260424T133329Z
CATEGORIES:Musik
CLASS:PUBLIC
DESCRIPTION;ALTREP="CID:<FFFF__=0ABBE548DFE235B58f9e8a93d@coffeebean.com>":
 Kammermusik-Werke von Joseph Haydn\, über Wolfgang Amadeus Mozart bis hin 
 zu Astor Piazolla werden die Jugendlichen und jungen Erwachsenen im diesjä
 hrigen Kammerkonzert des JSO Kassel e.V. präsentieren. Dabei ist fast jede
  Instrumentengruppe des JSO Kassel vertreten: Streicher*innen\, Hörner\, H
 olzblasinstrumente und Flügel werden in verschiedenen Kombinationen zu hör
 en sein.\nDie kammermusikalischen Benefizkonzerte sind mittlerweile ein fe
 st etablierter Teil der Arbeit des JSO Kassel e.V. und so findet das Forma
 t nun schon im dritten Jahr statt. Mit diesen Konzerten stärken wir das so
 ziale Engagement unseres Orchesters. Die Unterstützung regionaler Akteur*i
 nnen (in der Vergangenheit das Kinderheim am kleinen Holzweg\, sowie den G
 ewächshaus e.V. und den Klangkeller e.V.)\, soll vor allem sozialen Instit
 utionen\, die Kinder und Jugendliche unterstützen zukommen. Im Hinblick au
 f unseren diesjährigen Schwerpunkt der Sichtbarmachung des Schaffens von K
 omponistinnen\, in Kooperation mit der Furore Verlag aus Kassel\, wollen w
 ir&nbsp\;auch mit unserem Kammerkonzert Frauen und Kinder unterstützen.&nb
 sp\;\nDer gesamte Erlös des Konzertes zum Muttertag geht an das Frauenhaus
  in Kassel.Der Eintritt ist frei\, Spenden sind erbeten.&nbsp\;
DTSTART:20260510T110000Z
DTEND:20260510T110000Z
GEO:+51.314209;+9.498184
LOCATION:Studiobühne Deck 1
ORGANIZER;CN=:mailto:elena.wachendorf@jso-kassel.de
SEQUENCE:1
SUMMARY:Kammerkonzert zum Muttertag - Benefizkonzert für das Frauenhaus Kas
 sel
TRANSP:OPAQUE
URL:https://www.dock4.de/cms/de/168-kammerkonzert-zum-muttertag-benefizkonz
 ert-fuer-das-frauenhaus-kassel/2026-05-10-13-00?layout=vcal
END:VEVENT
END:VCALENDAR
