BEGIN:VCALENDAR
VERSION:2.0
PRODID:-//Kulturhaus Dock 4//NONSGML kigkonsult.se iCalcreator 2.41.92//
CALSCALE:GREGORIAN
METHOD:PUBLISH
UID:35333234-3034-4236-b236-636666353062
X-WR-CALNAME:iCagenda
X-WR-CALDESC:Event Management Extension for Joomla!
X-WR-RELCALID:3E26604A-50F4-4449-8B3E-E4F4932D05B5
X-WR-TIMEZONE:Europe/Berlin
BEGIN:VTIMEZONE
TZID:Europe/Berlin
TZUNTIL:20271031T010000Z
BEGIN:STANDARD
TZNAME:CET
DTSTART:20251026T030000
TZOFFSETFROM:+0200
TZOFFSETTO:+0100
RDATE:20261025T030000
END:STANDARD
BEGIN:DAYLIGHT
TZNAME:CEST
DTSTART:20260329T020000
TZOFFSETFROM:+0100
TZOFFSETTO:+0200
RDATE:20270328T020000
END:DAYLIGHT
END:VTIMEZONE
BEGIN:VEVENT
UID:38353466-6639-4566-a166-346132646237
DTSTAMP:20260420T062811Z
CATEGORIES:Talk
CLASS:PUBLIC
DESCRIPTION;ALTREP="CID:<FFFF__=0ABBE548DFE235B58f9e8a93d@coffeebean.com>":
 Vor über 50 Jahren wurde der erste Frauenbuchladen in Deutschland gegründe
 t\, Lillemor’s in München\, zwei Wochen später eröffnete Labrys in Berlin 
 – und dann ging es in einem rasanten Tempo in vielen anderen Städten weite
 r\, so auch Anfang der 1980er Jahre in Kassel mit Aradia. Zum Auftakt der 
 bundesweiten 4.&nbsp\; Feministischen Buchwoche ist die Autorin Doris Herm
 anns eingeladen\, die Geschichte der Frauen-Buch-Bewegung zu beleuchten. A
 nschließend findet eine Gesprächsrunde mit der Autorin und ehemaligen Arad
 ia-Buchladenfrauen statt\, sie geben ergänzend Einblicke in die lokale Ges
 chichte und Besonderheiten Kassels.&nbsp\;https://addf-kassel.de/kultur-ve
 rmittlung/veranstaltungen&nbsp\;und&nbsp\;https://www.buecherfrauen.de/bra
 nchenthemen/feministische-buchwoche
DTSTART:20260418T130000Z
DTEND:20260418T130000Z
GEO:+51.314209;+9.498184
LOCATION:Zwischendeck
ORGANIZER;CN=:mailto:schibbe@addf-kassel.de
SEQUENCE:1
SUMMARY:'Sand im patriarchalen Getriebe“ - Lesung mit Doris Hermanns anläss
 lich der 4. Feministischen Buchwoche
TRANSP:OPAQUE
URL:https://www.dock4.de/cms/de/programm/rueckblick-ab-05-2025/142-sand-im-
 patriarchalen-getriebe-lesung-mit-doris-hermanns-anlaesslich-der-4-feminis
 tischen-buchwoche/2026-04-18-15-00
END:VEVENT
END:VCALENDAR
