BEGIN:VCALENDAR
VERSION:2.0
PRODID:-//Kulturhaus Dock 4//NONSGML kigkonsult.se iCalcreator 2.41.92//
CALSCALE:GREGORIAN
METHOD:PUBLISH
UID:62333130-6433-4130-a131-353233653837
X-WR-CALNAME:iCagenda
X-WR-CALDESC:Event Management Extension for Joomla!
X-WR-RELCALID:3E26604A-50F4-4449-8B3E-E4F4932D05B5
X-WR-TIMEZONE:Europe/Berlin
BEGIN:VTIMEZONE
TZID:Europe/Berlin
TZUNTIL:20270328T010000Z
BEGIN:STANDARD
TZNAME:CET
DTSTART:20241027T030000
TZOFFSETFROM:+0200
TZOFFSETTO:+0100
RDATE:20251026T030000
RDATE:20261025T030000
END:STANDARD
BEGIN:DAYLIGHT
TZNAME:CEST
DTSTART:20250330T020000
TZOFFSETFROM:+0100
TZOFFSETTO:+0200
RDATE:20260329T020000
END:DAYLIGHT
END:VTIMEZONE
BEGIN:VEVENT
UID:64623830-6166-4837-a561-363263313431
DTSTAMP:20260421T115112Z
CATEGORIES:Musik
CLASS:PUBLIC
DESCRIPTION;ALTREP="CID:<FFFF__=0ABBE548DFE235B58f9e8a93d@coffeebean.com>":
 STUDIOBÜHNE DECK 1\nMusik als spontanes Komponierenmit:Martin Speicher – S
 axophone\, KlarinettenPhilip Zoubek – Klavier\, SynthesizerGeorg Wolf – Ko
 ntrabassJörg Fischer – SchlagzeugIm Laufe der über 25-jährigen Zusammenarb
 eit von Speicher\, Wolf und Fischer hat sich eine hochentwickelte Souverän
 ität im Zusammenspiel der drei entwickelt.\nDie stilistische Bandbreite re
 icht dabei von kräftig pulsierendem Free Jazz über klar an traditionelle J
 azzformen angelehnte Momente hin zu zerklüfteten\, stark auf den isolierte
 n Einzelton konzentrierte Texturen. Das Trio trifft heute erstmals auf den
  wesensverwandten Philip Zoubek. Der Kölner Pianist beschäftigt sich seit 
 langem forschend mit der Klangerweiterung des Klaviers\, und integriert fo
 lgerichtig auch Elektronik. Jenseits stilistischer Kategorien steht in sei
 nem Spiel vor allem Energie als musikalische Qualität im Vordergrund.Wir f
 reuen uns auf einen Abend mit freier Musik voller Ideenreichtum\, Klangvie
 lfalt und Vitalität.\nEintrittspreise:&nbsp\;15\,- € | ermäßigt 8\,- €
DTSTART:20250525T180000Z
DTEND:20250525T180000Z
GEO:+51.314087;+9.498528
LOCATION:
ORGANIZER;CN=:mailto:martinspeicher@t-online.de
SEQUENCE:1
SUMMARY:Ohrenkratzer e.V.: THE UNPREDICTABLES oder VON JETZT AUF GLEICH
TRANSP:OPAQUE
URL:https://www.dock4.de/cms/de/programm/rueckblick-ab-05-2025/16-ohrenkrat
 zer-e-v-the-unpredictables-oder-von-jetzt-auf-gleich/2025-05-25-20-00?layo
 ut=vcal
END:VEVENT
END:VCALENDAR
