BEGIN:VCALENDAR
VERSION:2.0
PRODID:-//Kulturhaus Dock 4//NONSGML kigkonsult.se iCalcreator 2.41.92//
CALSCALE:GREGORIAN
METHOD:PUBLISH
UID:39353736-3232-4734-b138-353537363836
X-WR-CALNAME:iCagenda
X-WR-CALDESC:Event Management Extension for Joomla!
X-WR-RELCALID:3E26604A-50F4-4449-8B3E-E4F4932D05B5
X-WR-TIMEZONE:Europe/Berlin
BEGIN:VTIMEZONE
TZID:Europe/Berlin
TZUNTIL:20271031T010000Z
BEGIN:STANDARD
TZNAME:CET
DTSTART:20251026T030000
TZOFFSETFROM:+0200
TZOFFSETTO:+0100
RDATE:20261025T030000
END:STANDARD
BEGIN:DAYLIGHT
TZNAME:CEST
DTSTART:20260329T020000
TZOFFSETFROM:+0100
TZOFFSETTO:+0200
RDATE:20270328T020000
END:DAYLIGHT
END:VTIMEZONE
BEGIN:VEVENT
UID:37666134-6361-4961-b539-333166386663
DTSTAMP:20260420T061050Z
CATEGORIES:Figurentheater
CLASS:PUBLIC
DESCRIPTION;ALTREP="CID:<FFFF__=0ABBE548DFE235B58f9e8a93d@coffeebean.com>":
 Patrik Lumma spielt in diesem Theaterstück einen Naturforscher\, der die K
 inder mitnimmt in die Welt der Insekten. Kaum aus dem Ei geschlüpft\, fäll
 t die kleine Raupe vom Baum. Dort trifft sie andere Tiere der Wiese\, die 
 ihr helfen\, sich in der Welt zurechtzufinden: Hiltrud\, die Schnecke und 
 Theo der Grashüpfer. Doch auch der böse schwarze Käfer mit Namen Puppenräu
 ber\, der nichts lieber frisst\, als kleine Raupen\, geht dort um. Und was
  macht die kleine Raupe im Winter? Es warten einige Abenteuer auf die klei
 ne Raupe bis sie zum Schmetterling werden kann. Ursprünglich sollte das St
 ück eine Dramatisierung der „kleinen Raupe Nimmersatt“ werden. Dies erwies
  sich als unmöglich\, weil das Bilderbuch keinen dramatischen Kern hat. Zu
  Hilfe kam der Blick in die „wirkliche“ Natur und so entstand schließlich 
 eine ganz eigene Geschichte. Doch auch die Freunde des „Klassikers“ werden
  beim Zuschauen auf ihre Kosten kommen.
DTSTART:20260417T140000Z
DTEND:20260417T140000Z
GEO:+51.314209;+9.498184
LOCATION:Studiobühne Deck 1
ORGANIZER:
SEQUENCE:1
SUMMARY:Theater des Staunens: Die Geschichte der kleinen Raupe
TRANSP:OPAQUE
URL:https://www.dock4.de/cms/de/programm/rueckblick-ab-05-2025/160-theater-
 des-staunens-die-geschichte-der-kleinen-raupe/2026-04-17-16-00
END:VEVENT
END:VCALENDAR
