BEGIN:VCALENDAR
VERSION:2.0
PRODID:-//Kulturhaus Dock 4//NONSGML kigkonsult.se iCalcreator 2.41.92//
CALSCALE:GREGORIAN
METHOD:PUBLISH
UID:30373532-6134-4065-b935-623964663731
X-WR-CALNAME:iCagenda
X-WR-CALDESC:Event Management Extension for Joomla!
X-WR-RELCALID:3E26604A-50F4-4449-8B3E-E4F4932D05B5
X-WR-TIMEZONE:Europe/Berlin
BEGIN:VTIMEZONE
TZID:Europe/Berlin
TZUNTIL:20271031T010000Z
BEGIN:STANDARD
TZNAME:CET
DTSTART:20251026T030000
TZOFFSETFROM:+0200
TZOFFSETTO:+0100
RDATE:20261025T030000
END:STANDARD
BEGIN:DAYLIGHT
TZNAME:CEST
DTSTART:20260329T020000
TZOFFSETFROM:+0100
TZOFFSETTO:+0200
RDATE:20270328T020000
END:DAYLIGHT
END:VTIMEZONE
BEGIN:VEVENT
UID:63626366-6230-4534-a138-316434366139
DTSTAMP:20260420T061619Z
CATEGORIES:Talk
CLASS:PUBLIC
DESCRIPTION;ALTREP="CID:<FFFF__=0ABBE548DFE235B58f9e8a93d@coffeebean.com>":
 Die Bühnenshow&nbsp\;„KasselKultur Live“&nbsp\;bringt am&nbsp\;Dienstag\, 
 14. April\, um 19 Uhr&nbsp\;das digitale Kulturportal der Stadt Kassel ers
 tmals auf die Bühne –&nbsp\;ins Kulturhaus Dock 4. Was sonst vor allem auf
  Instagram passiert – Stories\, Interviews und Einblicke in die Kasseler K
 ulturszene – wird für einen Abend live erlebbar.\nIn rund&nbsp\;90 Minuten
 &nbsp\;trifft Late‐Night‐Feeling auf Kasseler Kulturvielfalt: Künstlerinne
 n und Künstler aus unterschiedlichen Sparten sprechen über ihre Arbeit\, i
 hren Weg und das\, was sie antreibt. Dazu gibt es Musik\, Bühnen‐Challenge
 s und KasselKultur‐Backstage‐Momente. Durch den Abend führt das KasselKult
 ur‐Team: Moderatorin Stephanie Homeier zeigt gemeinsam mit Videograph Sylw
 ester Pawliczek\, was Kassels Kulturszene zu bieten hat. Die Gäste für die
  erste Live‐Show verkünden wir in den kommenden Tagen.&nbsp\;\nGastronomie
 An der Bar schenkt die&nbsp\;&nbsp\;Weinhandlung Just Grapes&nbsp\;von Jan
 nis Böttger Naturweine aus – perfekt\, um sich vor der Show einzustimmen o
 der den Abend danach entspannt ausklingen zu lassen. Kulinarisch könnt ihr
  euch von&nbsp\;&nbsp\;Berlin Fingerfood&nbsp\;verwöhnen lassen. Ulrich Be
 ier verwandelt beste Zutaten in Mini‐Gerichte mit außergewöhnlichen Toppin
 gs.\nKassel Kultur LiveDie Late Night Show nur früherDienstag\, 14. April 
 2026\, 19 UhrEinlass und Gastro ab 18 Uhrim Dock 4\, Eingang über den Inne
 nhof&nbsp\;&nbsp\;Eintritt frei\, Anmeldung erforderlich über kasselkultur
 .de
DTSTART:20260414T170000Z
DTEND:20260414T170000Z
GEO:+51.314209;+9.498184
LOCATION:Halle
ORGANIZER:
SEQUENCE:1
SUMMARY:KasselKultur. Die Late Night Show nur früher
TRANSP:OPAQUE
URL:https://www.dock4.de/cms/de/programm/rueckblick-ab-05-2025/162-kasselku
 ltur-die-late-night-show-nur-frueher/2026-04-14-19-00
END:VEVENT
END:VCALENDAR
