BEGIN:VCALENDAR
VERSION:2.0
PRODID:-//Kulturhaus Dock 4//NONSGML kigkonsult.se iCalcreator 2.41.92//
CALSCALE:GREGORIAN
METHOD:PUBLISH
UID:66383337-6139-4230-a434-393436396235
X-WR-CALNAME:iCagenda
X-WR-CALDESC:Event Management Extension for Joomla!
X-WR-RELCALID:3E26604A-50F4-4449-8B3E-E4F4932D05B5
X-WR-TIMEZONE:Europe/Berlin
BEGIN:VTIMEZONE
TZID:Europe/Berlin
TZUNTIL:20270328T010000Z
BEGIN:STANDARD
TZNAME:CET
DTSTART:20241027T030000
TZOFFSETFROM:+0200
TZOFFSETTO:+0100
RDATE:20251026T030000
RDATE:20261025T030000
END:STANDARD
BEGIN:DAYLIGHT
TZNAME:CEST
DTSTART:20250330T020000
TZOFFSETFROM:+0100
TZOFFSETTO:+0200
RDATE:20260329T020000
END:DAYLIGHT
END:VTIMEZONE
BEGIN:VEVENT
UID:38663163-3839-4437-a130-353063376638
DTSTAMP:20260419T143945Z
CATEGORIES:Musik
CLASS:PUBLIC
DESCRIPTION;ALTREP="CID:<FFFF__=0ABBE548DFE235B58f9e8a93d@coffeebean.com>":
 HALLE\nVerschiedene Gruppen präsentieren einen bunten Querschnitt durch Ra
 p\, Rock\, Sinfonie\, Pop\, Tango und vielem mehr.\nErwachsene Laienmusizi
 erende\, Kinder und Jugendliche von ROOF\, ROOF YOUNGSTARS\, Klangkeller u
 nd Studio Lev spielen ihre neuen Stücke und laden zu Music\, Magic\, Move 
 &amp\; Groove ein.\nEintritt frei
DTSTART:20250525T150000Z
DTEND:20250525T150000Z
GEO:+51.314209;+9.498184
LOCATION:
ORGANIZER:
SEQUENCE:1
SUMMARY:ALL4ONE: Konzert durch alle Genres
TRANSP:OPAQUE
URL:https://www.dock4.de/cms/de/programm/rueckblick-ab-05-2025/20-all4one-k
 onzert-durch-alle-genres/2025-05-25-17-00
END:VEVENT
END:VCALENDAR
